BEGIN:VCALENDAR
VERSION:2.0
PRODID:Kansas Department of Wildlife and Parks Calendar Creator
METHOD:PUBLISH
BEGIN:VEVENT
DTSTAMP:20260414T090702
DTSTART:20260711T000000
DTEND:20260711T235900
SUMMARY:Free Park Entry Day-Little Jerusalem Badlands State Park
DESCRIPTION:<p>Secretary Kennedy has&nbsp;designated&nbsp;several park-specific Free Entrance Days that align with local events and programs designed to engage families, outdoor enthusiasts, and newcomers to Kansas state parks. &nbsp;Camping fees still apply.&nbsp;</p>
X-ALT-DESC;FMTTYPE=text/html:<p>Secretary Kennedy has&nbsp;designated&nbsp;several park-specific Free Entrance Days that align with local events and programs designed to engage families, outdoor enthusiasts, and newcomers to Kansas state parks. &nbsp;Camping fees still apply.&nbsp;</p>
LOCATION:Little Jerusalem Badlands State Park\, County Rd. 400 and Gold Rd. Oakley\, Kansas 67748
CLASS:PUBLIC
END:VEVENT
END:VCALENDAR
