BEGIN:VCALENDAR
VERSION:2.0
PRODID:Kansas Department of Wildlife and Parks Calendar Creator
METHOD:PUBLISH
BEGIN:VEVENT
DTSTAMP:20260414T090907
DTSTART:20260912T000000
DTEND:20260912T235900
SUMMARY:Free Park Entry Day-Sand Hills State Park
DESCRIPTION:<p>Secretary Kennedy has&nbsp;designated&nbsp;several park-specific Free Entrance Days that align with local events and programs designed to engage families, outdoor enthusiasts, and newcomers to Kansas state parks. &nbsp;Camping fees still apply.&nbsp;</p>
X-ALT-DESC;FMTTYPE=text/html:<p>Secretary Kennedy has&nbsp;designated&nbsp;several park-specific Free Entrance Days that align with local events and programs designed to engage families, outdoor enthusiasts, and newcomers to Kansas state parks. &nbsp;Camping fees still apply.&nbsp;</p>
LOCATION:Sand Hills State Park\, 4207 E 56th St. Hutchinson\, Kansas 67502
CLASS:PUBLIC
END:VEVENT
END:VCALENDAR
