BEGIN:VCALENDAR
VERSION:2.0
PRODID:Kansas Department of Wildlife and Parks Calendar Creator
METHOD:PUBLISH
BEGIN:VEVENT
DTSTAMP:20260414T091358
DTSTART:20260913T000000
DTEND:20260913T235900
SUMMARY:Free Park Entry Day and Car Show-Webster State Park
DESCRIPTION:<p>&nbsp;Secretary Kennedy has&nbsp;designated&nbsp;several park-specific Free Entrance Days that align with local events and programs designed to engage families, outdoor enthusiasts, and newcomers to Kansas state parks. Camping fees still apply.&nbsp;</p><p>&nbsp;<span style="font-size: 1.25rem;">Vehicle permits are not required for the day.&nbsp; All Camping fees apply.</span></p><p>Annual Car Show will be taking place in Rock Point Campground.</p>
X-ALT-DESC;FMTTYPE=text/html:<p>&nbsp;Secretary Kennedy has&nbsp;designated&nbsp;several park-specific Free Entrance Days that align with local events and programs designed to engage families, outdoor enthusiasts, and newcomers to Kansas state parks. Camping fees still apply.&nbsp;</p><p>&nbsp;<span style="font-size: 1.25rem;">Vehicle permits are not required for the day.&nbsp; All Camping fees apply.</span></p><p>Annual Car Show will be taking place in Rock Point Campground.</p>
LOCATION:Webster State Park\, 1140 10 Rd. Stockton\, Kansas 67669
CLASS:PUBLIC
END:VEVENT
END:VCALENDAR
