BEGIN:VCALENDAR
VERSION:2.0
PRODID:Kansas Department of Wildlife and Parks Calendar Creator
METHOD:PUBLISH
BEGIN:VEVENT
DTSTAMP:20260414T092606
DTSTART:20260926T000000
DTEND:20260926T235900
SUMMARY:Free Park Entry Day-Crawford State Park
DESCRIPTION:Secretary Kennedy has&nbsp;designated&nbsp;several park-specific Free Entrance Days that align with local events and programs designed to engage families, outdoor enthusiasts, and newcomers to Kansas state parks. Camping fees still apply.&nbsp;
X-ALT-DESC;FMTTYPE=text/html:Secretary Kennedy has&nbsp;designated&nbsp;several park-specific Free Entrance Days that align with local events and programs designed to engage families, outdoor enthusiasts, and newcomers to Kansas state parks. Camping fees still apply.&nbsp;
LOCATION:Crawford State Park\, 1 Lake Rd. Farlington\, Kansas 66734
CLASS:PUBLIC
END:VEVENT
END:VCALENDAR
