BEGIN:VCALENDAR
VERSION:2.0
PRODID:Kansas Department of Wildlife and Parks Calendar Creator
METHOD:PUBLISH
BEGIN:VEVENT
DTSTAMP:20260414T092934
DTSTART:20260926T000000
DTEND:20260926T235900
SUMMARY:Free Park Entry Day and 24th Annual Fall River Rendezvous-Fall River State Park
DESCRIPTION:<p>Secretary Kennedy has&nbsp;designated&nbsp;several park-specific Free Entrance Days that align with local events and programs designed to engage families, outdoor enthusiasts, and newcomers to Kansas state parks. Camping fees still apply.&nbsp;&nbsp;</p><p>Step back to 1826, a time with the mountain man and the American Indians walked the recently purchased Louisiana Purchase. A time when Lewis and Clark had finished their exploration, and others were wanting to follow in their footsteps. The event interprets 1800-1840 with a traditional rendezvous when Mountain Men and American Indians camped together to trade for needed supplies from the fur companies. Activities may include Indian and Mountain Men Encampments, Historical Traders, Reenactors Blackpowder Shoot,&nbsp;Tomahawk Throw, Skillet Throw for the Ladies, and a Kids Gold Rush. Come out to Fall River State Park and step back to 1826.&nbsp; This event celebrates National Public Lands Day - with FREE entrance to Fall River State Park.</p>
X-ALT-DESC;FMTTYPE=text/html:<p>Secretary Kennedy has&nbsp;designated&nbsp;several park-specific Free Entrance Days that align with local events and programs designed to engage families, outdoor enthusiasts, and newcomers to Kansas state parks. Camping fees still apply.&nbsp;&nbsp;</p><p>Step back to 1826, a time with the mountain man and the American Indians walked the recently purchased Louisiana Purchase. A time when Lewis and Clark had finished their exploration, and others were wanting to follow in their footsteps. The event interprets 1800-1840 with a traditional rendezvous when Mountain Men and American Indians camped together to trade for needed supplies from the fur companies. Activities may include Indian and Mountain Men Encampments, Historical Traders, Reenactors Blackpowder Shoot,&nbsp;Tomahawk Throw, Skillet Throw for the Ladies, and a Kids Gold Rush. Come out to Fall River State Park and step back to 1826.&nbsp; This event celebrates National Public Lands Day - with FREE entrance to Fall River State Park.</p>
LOCATION:Fall River State Park\, 2381 Casner Creek Rd. Fall River\, Kansas 67047
CLASS:PUBLIC
END:VEVENT
END:VCALENDAR
