BEGIN:VCALENDAR
VERSION:2.0
PRODID:Kansas Department of Wildlife and Parks Calendar Creator
METHOD:PUBLISH
BEGIN:VEVENT
DTSTAMP:20260414T094848
DTSTART:20261024T000000
DTEND:20261024T235900
SUMMARY:Free Park Entry Day-Kanopolis State Park
DESCRIPTION:Secretary Kennedy has&nbsp;designated&nbsp;several park-specific Free Entrance Days that align with local events and programs designed to engage families, outdoor enthusiasts, and newcomers to Kansas state parks. Camping fees still apply.&nbsp;
X-ALT-DESC;FMTTYPE=text/html:Secretary Kennedy has&nbsp;designated&nbsp;several park-specific Free Entrance Days that align with local events and programs designed to engage families, outdoor enthusiasts, and newcomers to Kansas state parks. Camping fees still apply.&nbsp;
LOCATION:Kanopolis State Park\, 200 Horsethief Rd. Marquette\, Kansas 67464
CLASS:PUBLIC
END:VEVENT
END:VCALENDAR
