BEGIN:VCALENDAR
VERSION:2.0
PRODID:Kansas Department of Wildlife and Parks Calendar Creator
METHOD:PUBLISH
BEGIN:VEVENT
DTSTAMP:20260320T122436
DTSTART:20251026T000000
DTEND:20251026T235900
SUMMARY:Wichita Co. - Leoti
DESCRIPTION:<p><strong>Type</strong>: Hunter Ed Course<br><strong>Dates</strong>: 10/22/25 - 10/26/25<br><strong>Contact</strong>: Alan Baker<br><strong>Phone</strong>: 620-874-1460</p><h3>Other Information</h3><p>Register with Alan Baker at the Wichita Co Extension Office.</p>
X-ALT-DESC;FMTTYPE=text/html:<p><strong>Type</strong>: Hunter Ed Course<br><strong>Dates</strong>: 10/22/25 - 10/26/25<br><strong>Contact</strong>: Alan Baker<br><strong>Phone</strong>: 620-874-1460</p><h3>Other Information</h3><p>Register with Alan Baker at the Wichita Co Extension Office.</p>
LOCATION:Wichita County Community Building\, 506 M St Leoti\, Kansas 67861
CLASS:PUBLIC
END:VEVENT
END:VCALENDAR
