BEGIN:VCALENDAR
VERSION:2.0
PRODID:Kansas Department of Wildlife and Parks Calendar Creator
METHOD:PUBLISH
BEGIN:VEVENT
DTSTAMP:20260414T095726
DTSTART:20261024T000000
DTEND:20261024T235900
SUMMARY:Free Park Entry Day, Moonlight Horse Ride and Fall Festival-Perry State Park
DESCRIPTION:<p>Secretary Kennedy has&nbsp;designated&nbsp;several park-specific Free Entrance Days that align with local events and programs designed to engage families, outdoor enthusiasts, and newcomers to Kansas state parks. Camping fees still apply.&nbsp;</p><p><strong>For the Moonlight Horse Ride:&nbsp;</strong></p><ul>    <li><strong>&nbsp;</strong><span style="font-size: 1.25rem;">Contact Amy Schmidtlein:&nbsp;</span><span style="font-size: 1.25rem;">785-640-1600</span></li></ul><ul>    <li>3:00 pm - 9:00 pm</li></ul><p><strong><div></div></strong></p><ul>    <li>Other Information: Location is at the Wild Horse Equestrian Shelter and Trails    <p>Chili &amp; Pie Supper with Moonlight Ride.&nbsp;<span style="font-size: 1.25rem;">In case of inclement weather-and more event details will be updated on "Let's Ride - Perry Lake" Facebook page.</span></p>    </li></ul><p><div><strong>For the Fall Festival:</strong></div><ul>    <li>    <p>Plans are in the works- schedule will be finalized late summer.</p>    </li>    <li>    <p><span style="font-size: 1.25rem;">Our Facebook page for updates:&nbsp;</span><a href="https://www.facebook.com/PerryStatePark" target="_self" style="font-size: 1.25rem;">https://www.facebook.com/PerryStatePark</a><span style="font-size: 1.25rem;">&nbsp;</span></p>    <p>or the new Friends Group Facebook Page&nbsp;<a href="https://www.facebook.com/people/Friends-of-Perry-State-Park/61566151751744/" target="_self" style="font-size: 1.25rem;">https://www.facebook.com/people/Friends-of-Perry-State-Park/61566151751744/</a></p>    </li>    <li>    <p><a href="https://www.facebook.com/people/Friends-of-Perry-State-Park/61566151751744/" target="_self" style="font-size: 1.25rem;">&nbsp;</a>Contact&nbsp;<span style="font-size: 1.25rem;">email: perrystateparkfriends@gmail.com</span></p>    </li></ul></p>
X-ALT-DESC;FMTTYPE=text/html:<p>Secretary Kennedy has&nbsp;designated&nbsp;several park-specific Free Entrance Days that align with local events and programs designed to engage families, outdoor enthusiasts, and newcomers to Kansas state parks. Camping fees still apply.&nbsp;</p><p><strong>For the Moonlight Horse Ride:&nbsp;</strong></p><ul>    <li><strong>&nbsp;</strong><span style="font-size: 1.25rem;">Contact Amy Schmidtlein:&nbsp;</span><span style="font-size: 1.25rem;">785-640-1600</span></li></ul><ul>    <li>3:00 pm - 9:00 pm</li></ul><p><strong><div></div></strong></p><ul>    <li>Other Information: Location is at the Wild Horse Equestrian Shelter and Trails    <p>Chili &amp; Pie Supper with Moonlight Ride.&nbsp;<span style="font-size: 1.25rem;">In case of inclement weather-and more event details will be updated on "Let's Ride - Perry Lake" Facebook page.</span></p>    </li></ul><p><div><strong>For the Fall Festival:</strong></div><ul>    <li>    <p>Plans are in the works- schedule will be finalized late summer.</p>    </li>    <li>    <p><span style="font-size: 1.25rem;">Our Facebook page for updates:&nbsp;</span><a href="https://www.facebook.com/PerryStatePark" target="_self" style="font-size: 1.25rem;">https://www.facebook.com/PerryStatePark</a><span style="font-size: 1.25rem;">&nbsp;</span></p>    <p>or the new Friends Group Facebook Page&nbsp;<a href="https://www.facebook.com/people/Friends-of-Perry-State-Park/61566151751744/" target="_self" style="font-size: 1.25rem;">https://www.facebook.com/people/Friends-of-Perry-State-Park/61566151751744/</a></p>    </li>    <li>    <p><a href="https://www.facebook.com/people/Friends-of-Perry-State-Park/61566151751744/" target="_self" style="font-size: 1.25rem;">&nbsp;</a>Contact&nbsp;<span style="font-size: 1.25rem;">email: perrystateparkfriends@gmail.com</span></p>    </li></ul></p>
LOCATION:Perry State Park\, 5441 West Lake Rd. Ozawkie\, Kansas 66070
CLASS:PUBLIC
END:VEVENT
END:VCALENDAR
