BEGIN:VCALENDAR
VERSION:2.0
PRODID:Kansas Department of Wildlife and Parks Calendar Creator
METHOD:PUBLISH
BEGIN:VEVENT
DTSTAMP:20260414T110519
DTSTART:20260606T000000
DTEND:20260606T235900
SUMMARY:Free Park Entry Day-Elk City State Park
DESCRIPTION:Secretary Kennedy has&nbsp;designated&nbsp;several park-specific Free Entrance Days that align with local events and programs designed to engage families, outdoor enthusiasts, and newcomers to Kansas state parks. Camping fees still apply.&nbsp;
X-ALT-DESC;FMTTYPE=text/html:Secretary Kennedy has&nbsp;designated&nbsp;several park-specific Free Entrance Days that align with local events and programs designed to engage families, outdoor enthusiasts, and newcomers to Kansas state parks. Camping fees still apply.&nbsp;
LOCATION:Elk City State Park\, 4825 Squaw Creek Rd. Independence\, Kansas 67301
CLASS:PUBLIC
END:VEVENT
END:VCALENDAR
