BEGIN:VCALENDAR
VERSION:2.0
PRODID:Kansas Department of Wildlife and Parks Calendar Creator
METHOD:PUBLISH
BEGIN:VEVENT
DTSTAMP:20260422T145746
DTSTART:20260627T080000
DTEND:20260627T170000
SUMMARY:Hybrid Hunter Ed Field Day- Finney Co.
DESCRIPTION:<p>Location:</p><p>Sand and Sage Rifle Club, 15605 E Rockpit Road, Garden City, KS 67846</p><p><a href="https://www.safehunters.com/kansas/classdetails.asp?Class_SchedID=1802" target="_blank" rel="noopener">Registration required.</a></p><p><strong>Class Notes:</strong>&nbsp; Students must complete the online portion (<a href="https://nra.yourlearningportal.com/core/default.aspx" target="_blank" rel="noopener">NRA Learning Portal</a>) of the hybrid class prior to registering for this field day or any other found on the KDWP website.<br><br>After registering for a class. Bring a screenshot or the printed Field Day Qualifier certificate to the class.</p>
X-ALT-DESC;FMTTYPE=text/html:<p>Location:</p><p>Sand and Sage Rifle Club, 15605 E Rockpit Road, Garden City, KS 67846</p><p><a href="https://www.safehunters.com/kansas/classdetails.asp?Class_SchedID=1802" target="_blank" rel="noopener">Registration required.</a></p><p><strong>Class Notes:</strong>&nbsp; Students must complete the online portion (<a href="https://nra.yourlearningportal.com/core/default.aspx" target="_blank" rel="noopener">NRA Learning Portal</a>) of the hybrid class prior to registering for this field day or any other found on the KDWP website.<br><br>After registering for a class. Bring a screenshot or the printed Field Day Qualifier certificate to the class.</p>
LOCATION:
CLASS:PUBLIC
END:VEVENT
END:VCALENDAR
