BEGIN:VCALENDAR
VERSION:2.0
PRODID:Kansas Department of Wildlife and Parks Calendar Creator
METHOD:PUBLISH
BEGIN:VEVENT
DTSTAMP:20260423T153303
DTSTART:20261017T080000
DTEND:20261018T130000
SUMMARY:Hunter Education Course - Hodgman County
DESCRIPTION:<h2>Hunter Education Traditional Course&nbsp;</h2><p><strong>Two-day Course:</strong><br>8am-1pm on Saturday, October 17 and Sunday, October 18<br>Must be present both days</p><p><strong>Location:&nbsp;<br></strong><span style="font-size: 1.25rem;">Class will be held at the Lodge located on the south end of the main road leading into Horsethief Reservoir. </span></p><p><strong>Organizing Instructor:&nbsp;&nbsp;</strong>Christopher Gray</p><p><strong>Registration Required:&nbsp;</strong><a href="https://www.safehunters.com/kansas/classdetails.asp?Class_SchedID=1801" target="_blank" rel="noopener">Sign up here</a></p><p>&nbsp;</p>
X-ALT-DESC;FMTTYPE=text/html:<h2>Hunter Education Traditional Course&nbsp;</h2><p><strong>Two-day Course:</strong><br>8am-1pm on Saturday, October 17 and Sunday, October 18<br>Must be present both days</p><p><strong>Location:&nbsp;<br></strong><span style="font-size: 1.25rem;">Class will be held at the Lodge located on the south end of the main road leading into Horsethief Reservoir. </span></p><p><strong>Organizing Instructor:&nbsp;&nbsp;</strong>Christopher Gray</p><p><strong>Registration Required:&nbsp;</strong><a href="https://www.safehunters.com/kansas/classdetails.asp?Class_SchedID=1801" target="_blank" rel="noopener">Sign up here</a></p><p>&nbsp;</p>
LOCATION:Horsethief Reservoir\, 19005 SW 156 Highway Jetmore\, Kansas 67854
CLASS:PUBLIC
END:VEVENT
END:VCALENDAR
