BEGIN:VCALENDAR
VERSION:2.0
PRODID:Kansas Department of Wildlife and Parks Calendar Creator
METHOD:PUBLISH
BEGIN:VEVENT
DTSTAMP:20260423T144907
DTSTART:20260409T120000
DTEND:20260409T170000
SUMMARY:Kansas Wildlife & Parks Commission Meeting
DESCRIPTION:<h2>April 9, 2026 Meeting Details</h2><div "=""><b></b><h3>Meeting Attendance Options</h3></div><p><b>In Person</b></p><p><b><u><a href="https://www.google.com/maps/dir//Docking+State+Office+Building,+915+SW+Harrison+St,+Topeka,+KS+66612/@38.6610471,-96.5310606,30346m/data=!3m2!1e3!5s0x87bf0304d73dad3f:0x8012a9c3b940f7c3!4m8!4m7!1m0!1m5!1m1!1s0x87bf0304d11ee757:0x89bd898c7867b9f4!2m2!1d-95.680051!2d39.0473256?entry=ttu&amp;g_ep=EgoyMDI1MTIwOS4wIKXMDSoKLDEwMDc5MjA2N0gBUAM%3D" target="_blank">Robert B. Docking State Office Building</a></u></b><br>915 SW Harrison Street, Room 360<br>Topeka, KS 66612</p><p>If notified in advance, KDWP will have an interpreter available for the hearing impaired. To request an interpreter, call the Kansas Commission of Deaf and Hard of Hearing at 1-800-432-0698. Any individual with a disability may request other accommodations by contacting KDWP at 785-294-2645.</p><p><b>Virtual - By Zoom</b></p><ul>    <li>Visit&nbsp;<u><b><a href="https://ksoutdoors.zoom.us/webinar/register/WN_C6OTqA0pTxqYYcUaHCD4MQ" target="_self">https://ksoutdoors.zoom.us/webinar/register/WN_C6OTqA0pTxqYYcUaHCD4MQ</a></b></u>.</li>    <li>Register by entering your first and last name and email address.</li>    <li>Once registered, you will be provided a link to “Join the Meeting.”</li>    <li>You will be muted upon entering the meeting. To comment or ask a question, use the “Raise Hand” feature or type into the Chat.</li></ul><p><b>Call In</b></p><ul>    <li>Dial&nbsp;<b>1-877-853-5257</b></li>    <li>When a meeting ID is requested, enter&nbsp;<b>848 9980 1958#</b></li>    <li>When a participant ID is requested, enter&nbsp;<b>#</b></li></ul><p>&nbsp;<b>Watch a live video and audio stream of the meeting without registering at&nbsp;<u><u><a href="https://ksoutdoors.com/commission-meeting" target="_self">https://ksoutdoors.com/commission-meeting</a></u></u>.<hr></b></p><div><span style="color: rgb(0, 37, 105); font-size: 1.75rem; font-weight: 900;">Agenda</span></div><p>&nbsp;</p><p><b>I.&nbsp; &nbsp; &nbsp; &nbsp; Call to Order at 12:00 P.M.</b></p><p><b>II.&nbsp; &nbsp; &nbsp; &nbsp;Introduction of Commissioners and Guests</b></p><p><b>III.&nbsp; &nbsp; &nbsp; Additions and Deletions of Agenda Items</b></p><p><b>IV.&nbsp; &nbsp; &nbsp; Approval of November 2025 Meeting Minutes</b></p><p><b>V.&nbsp; &nbsp; &nbsp; &nbsp;Department Report</b></p><p><b>&nbsp; &nbsp; &nbsp; &nbsp; &nbsp; a) Public Hearing**&nbsp;</b>(Administrative Rules and Regulations, Pursuant to K.S.A. 77-421)</p><p>&nbsp; &nbsp; &nbsp; &nbsp; &nbsp; &nbsp; &nbsp; &nbsp;•&nbsp; 115-7-1 — Fishing, legal equipment, methods of taking, and other provisions — Bryan Sowards</p><p>&nbsp; &nbsp; &nbsp; &nbsp; &nbsp; &nbsp; &nbsp; &nbsp;•&nbsp; 115-7-4 — Fish; processing and possession&nbsp;— Bryan Sowards</p><p>&nbsp; &nbsp; &nbsp; &nbsp; &nbsp; &nbsp; &nbsp; &nbsp;•&nbsp; 115-7-10 — Fishing; special provisions&nbsp;— Bryan Sowards</p><p>&nbsp; &nbsp; &nbsp; &nbsp; &nbsp; &nbsp; &nbsp; &nbsp;•&nbsp; 115-18-8 — Retrieval and Possession of Game Animals, Sport Fish, and Migratory Game Birds&nbsp;— Bryan Sowards</p><p>&nbsp; &nbsp; &nbsp; &nbsp; &nbsp; &nbsp; &nbsp; &nbsp;•&nbsp; 2026-27 Waterfowl Season Dates, Bag, and Possession Limits (consensus vote only) — Tom Bidrowski</p><p>&nbsp; &nbsp; &nbsp; &nbsp; &nbsp;&nbsp;<b>b) Regulations in Promulgation</b>&nbsp;— Kurtis Wiard</p><p>&nbsp; &nbsp; &nbsp; &nbsp; &nbsp; &nbsp; &nbsp; &nbsp;•&nbsp; 115-2-1 — Night Vision Hunting and Duplicate Boat Decals Fees —<br><i>&nbsp; &nbsp; &nbsp; &nbsp; &nbsp; &nbsp; &nbsp; &nbsp; &nbsp; Completed promulgation, will be voted on at June 18, 2026 meeting</i></p><p>&nbsp; &nbsp; &nbsp; &nbsp; &nbsp; &nbsp; &nbsp; &nbsp;•&nbsp; 115-2-2; 2-3 — Park Fees —&nbsp;<i>Completed promulgation; statutory ratification in process</i></p><p>&nbsp; &nbsp; &nbsp; &nbsp;&nbsp;<b>&nbsp;&nbsp;c) 2026 Legislative Agenda&nbsp;</b>— Martin de Boer</p><p><b>VI.&nbsp; &nbsp; &nbsp;General Public Comment*</b></p><p><b>VII.&nbsp; &nbsp; Secretary's Remarks</b>&nbsp;— Secretary Christopher Kennedy</p><p><b>VIII.&nbsp; &nbsp;Informational Items</b></p><p><b>IX.&nbsp; &nbsp; &nbsp;General Discussion</b></p><p><b><b>&nbsp; &nbsp; &nbsp; &nbsp; &nbsp;&nbsp;</b></b>a) 115-25-5; 115-25-6 — Turkey Fall Season — Jake George</p><p><b>X.&nbsp; &nbsp; &nbsp; Workshop Session</b></p><p><b>&nbsp; &nbsp; &nbsp; &nbsp; &nbsp;&nbsp;</b>a)&nbsp;115 -25-9a — 2026 Deer Seasons on Military Units — Levi Jaster</p><p>&nbsp; &nbsp; &nbsp; &nbsp; &nbsp; b) 115-8-1 — Nonresident Waterfowl Hunting on Public Lands — Stuart Schrag</p><p>&nbsp; &nbsp; &nbsp; &nbsp; &nbsp; c) 115-8-25 — Trail Cameras on Public Lands —&nbsp;Stuart Schrag</p><p><b>XI.&nbsp; &nbsp; General Public Comment*</b></p><p><b>XII.&nbsp; &nbsp;Old Business</b></p><p><b>XIII.&nbsp; Other Business</b></p><p>&nbsp; &nbsp; &nbsp; &nbsp; a) Future Meeting Dates and Locations</p><p><b>XIV. Adjournment</b></p><p><i>*&nbsp;All public comments are limited to ten minutes per presenter. Presenters who need additional time to speak may request up to an additional five minutes from the Chair.<hr></i></p><h3>Proposed Regulations Pending Commission Vote April 9, 2026</h3><ul>    <li><a href="https://ksoutdoorsmain.prod.govaccess.org/home/showdocument?id=2040" target="_blank" rel="noopener">115-15-1. Threatened and endangered species; general provisions</a>.<br>    To be voted on during the January 8, 2026 Commission Meeting.</li>    <li><a href="https://ksoutdoorsmain.prod.govaccess.org/home/showdocument?id=2042" target="_blank" rel="noopener">115-15-2. Nongame species; general provisions</a>.<br>    To be voted on during the January 8, 2026 Commission Meeting.</li>    <li><a href="https://ksoutdoorsmain.prod.govaccess.org/home/showdocument?id=2250" target="_blank" rel="noopener">115-25-8. Elk; open season, bag limit, and permits</a><br>    To be voted on during the January 8, 2026 Commission Meeting.</li>    <li><a href="https://ksoutdoorsmain.prod.govaccess.org/home/showdocument?id=2252" target="_blank" rel="noopener">115-45-1. Wildlife and Parks Commission; Draft Rules and Regulations</a><br>    To be voted on during the January 8, 2026 Commission Meeting.</li></ul>
X-ALT-DESC;FMTTYPE=text/html:<h2>April 9, 2026 Meeting Details</h2><div "=""><b></b><h3>Meeting Attendance Options</h3></div><p><b>In Person</b></p><p><b><u><a href="https://www.google.com/maps/dir//Docking+State+Office+Building,+915+SW+Harrison+St,+Topeka,+KS+66612/@38.6610471,-96.5310606,30346m/data=!3m2!1e3!5s0x87bf0304d73dad3f:0x8012a9c3b940f7c3!4m8!4m7!1m0!1m5!1m1!1s0x87bf0304d11ee757:0x89bd898c7867b9f4!2m2!1d-95.680051!2d39.0473256?entry=ttu&amp;g_ep=EgoyMDI1MTIwOS4wIKXMDSoKLDEwMDc5MjA2N0gBUAM%3D" target="_blank">Robert B. Docking State Office Building</a></u></b><br>915 SW Harrison Street, Room 360<br>Topeka, KS 66612</p><p>If notified in advance, KDWP will have an interpreter available for the hearing impaired. To request an interpreter, call the Kansas Commission of Deaf and Hard of Hearing at 1-800-432-0698. Any individual with a disability may request other accommodations by contacting KDWP at 785-294-2645.</p><p><b>Virtual - By Zoom</b></p><ul>    <li>Visit&nbsp;<u><b><a href="https://ksoutdoors.zoom.us/webinar/register/WN_C6OTqA0pTxqYYcUaHCD4MQ" target="_self">https://ksoutdoors.zoom.us/webinar/register/WN_C6OTqA0pTxqYYcUaHCD4MQ</a></b></u>.</li>    <li>Register by entering your first and last name and email address.</li>    <li>Once registered, you will be provided a link to “Join the Meeting.”</li>    <li>You will be muted upon entering the meeting. To comment or ask a question, use the “Raise Hand” feature or type into the Chat.</li></ul><p><b>Call In</b></p><ul>    <li>Dial&nbsp;<b>1-877-853-5257</b></li>    <li>When a meeting ID is requested, enter&nbsp;<b>848 9980 1958#</b></li>    <li>When a participant ID is requested, enter&nbsp;<b>#</b></li></ul><p>&nbsp;<b>Watch a live video and audio stream of the meeting without registering at&nbsp;<u><u><a href="https://ksoutdoors.com/commission-meeting" target="_self">https://ksoutdoors.com/commission-meeting</a></u></u>.<hr></b></p><div><span style="color: rgb(0, 37, 105); font-size: 1.75rem; font-weight: 900;">Agenda</span></div><p>&nbsp;</p><p><b>I.&nbsp; &nbsp; &nbsp; &nbsp; Call to Order at 12:00 P.M.</b></p><p><b>II.&nbsp; &nbsp; &nbsp; &nbsp;Introduction of Commissioners and Guests</b></p><p><b>III.&nbsp; &nbsp; &nbsp; Additions and Deletions of Agenda Items</b></p><p><b>IV.&nbsp; &nbsp; &nbsp; Approval of November 2025 Meeting Minutes</b></p><p><b>V.&nbsp; &nbsp; &nbsp; &nbsp;Department Report</b></p><p><b>&nbsp; &nbsp; &nbsp; &nbsp; &nbsp; a) Public Hearing**&nbsp;</b>(Administrative Rules and Regulations, Pursuant to K.S.A. 77-421)</p><p>&nbsp; &nbsp; &nbsp; &nbsp; &nbsp; &nbsp; &nbsp; &nbsp;•&nbsp; 115-7-1 — Fishing, legal equipment, methods of taking, and other provisions — Bryan Sowards</p><p>&nbsp; &nbsp; &nbsp; &nbsp; &nbsp; &nbsp; &nbsp; &nbsp;•&nbsp; 115-7-4 — Fish; processing and possession&nbsp;— Bryan Sowards</p><p>&nbsp; &nbsp; &nbsp; &nbsp; &nbsp; &nbsp; &nbsp; &nbsp;•&nbsp; 115-7-10 — Fishing; special provisions&nbsp;— Bryan Sowards</p><p>&nbsp; &nbsp; &nbsp; &nbsp; &nbsp; &nbsp; &nbsp; &nbsp;•&nbsp; 115-18-8 — Retrieval and Possession of Game Animals, Sport Fish, and Migratory Game Birds&nbsp;— Bryan Sowards</p><p>&nbsp; &nbsp; &nbsp; &nbsp; &nbsp; &nbsp; &nbsp; &nbsp;•&nbsp; 2026-27 Waterfowl Season Dates, Bag, and Possession Limits (consensus vote only) — Tom Bidrowski</p><p>&nbsp; &nbsp; &nbsp; &nbsp; &nbsp;&nbsp;<b>b) Regulations in Promulgation</b>&nbsp;— Kurtis Wiard</p><p>&nbsp; &nbsp; &nbsp; &nbsp; &nbsp; &nbsp; &nbsp; &nbsp;•&nbsp; 115-2-1 — Night Vision Hunting and Duplicate Boat Decals Fees —<br><i>&nbsp; &nbsp; &nbsp; &nbsp; &nbsp; &nbsp; &nbsp; &nbsp; &nbsp; Completed promulgation, will be voted on at June 18, 2026 meeting</i></p><p>&nbsp; &nbsp; &nbsp; &nbsp; &nbsp; &nbsp; &nbsp; &nbsp;•&nbsp; 115-2-2; 2-3 — Park Fees —&nbsp;<i>Completed promulgation; statutory ratification in process</i></p><p>&nbsp; &nbsp; &nbsp; &nbsp;&nbsp;<b>&nbsp;&nbsp;c) 2026 Legislative Agenda&nbsp;</b>— Martin de Boer</p><p><b>VI.&nbsp; &nbsp; &nbsp;General Public Comment*</b></p><p><b>VII.&nbsp; &nbsp; Secretary's Remarks</b>&nbsp;— Secretary Christopher Kennedy</p><p><b>VIII.&nbsp; &nbsp;Informational Items</b></p><p><b>IX.&nbsp; &nbsp; &nbsp;General Discussion</b></p><p><b><b>&nbsp; &nbsp; &nbsp; &nbsp; &nbsp;&nbsp;</b></b>a) 115-25-5; 115-25-6 — Turkey Fall Season — Jake George</p><p><b>X.&nbsp; &nbsp; &nbsp; Workshop Session</b></p><p><b>&nbsp; &nbsp; &nbsp; &nbsp; &nbsp;&nbsp;</b>a)&nbsp;115 -25-9a — 2026 Deer Seasons on Military Units — Levi Jaster</p><p>&nbsp; &nbsp; &nbsp; &nbsp; &nbsp; b) 115-8-1 — Nonresident Waterfowl Hunting on Public Lands — Stuart Schrag</p><p>&nbsp; &nbsp; &nbsp; &nbsp; &nbsp; c) 115-8-25 — Trail Cameras on Public Lands —&nbsp;Stuart Schrag</p><p><b>XI.&nbsp; &nbsp; General Public Comment*</b></p><p><b>XII.&nbsp; &nbsp;Old Business</b></p><p><b>XIII.&nbsp; Other Business</b></p><p>&nbsp; &nbsp; &nbsp; &nbsp; a) Future Meeting Dates and Locations</p><p><b>XIV. Adjournment</b></p><p><i>*&nbsp;All public comments are limited to ten minutes per presenter. Presenters who need additional time to speak may request up to an additional five minutes from the Chair.<hr></i></p><h3>Proposed Regulations Pending Commission Vote April 9, 2026</h3><ul>    <li><a href="https://ksoutdoorsmain.prod.govaccess.org/home/showdocument?id=2040" target="_blank" rel="noopener">115-15-1. Threatened and endangered species; general provisions</a>.<br>    To be voted on during the January 8, 2026 Commission Meeting.</li>    <li><a href="https://ksoutdoorsmain.prod.govaccess.org/home/showdocument?id=2042" target="_blank" rel="noopener">115-15-2. Nongame species; general provisions</a>.<br>    To be voted on during the January 8, 2026 Commission Meeting.</li>    <li><a href="https://ksoutdoorsmain.prod.govaccess.org/home/showdocument?id=2250" target="_blank" rel="noopener">115-25-8. Elk; open season, bag limit, and permits</a><br>    To be voted on during the January 8, 2026 Commission Meeting.</li>    <li><a href="https://ksoutdoorsmain.prod.govaccess.org/home/showdocument?id=2252" target="_blank" rel="noopener">115-45-1. Wildlife and Parks Commission; Draft Rules and Regulations</a><br>    To be voted on during the January 8, 2026 Commission Meeting.</li></ul>
LOCATION:Docking State Office Building\, 915 SW Harrison Street\, Room 360 Topeka\, Kansas 
CLASS:PUBLIC
END:VEVENT
END:VCALENDAR
