BEGIN:VCALENDAR
VERSION:2.0
PRODID:Kansas Department of Wildlife and Parks Calendar Creator
METHOD:PUBLISH
BEGIN:VEVENT
DTSTAMP:20260423T144151
DTSTART:20260618T120000
DTEND:20260618T170000
SUMMARY:Kansas Wildlife & Parks Commission Meeting
DESCRIPTION:
X-ALT-DESC;FMTTYPE=text/html:
LOCATION:J.O. Sundstrom Conference Center\, 102 N Main Street Lindsborg\, Kansas 
CLASS:PUBLIC
END:VEVENT
END:VCALENDAR
