BEGIN:VCALENDAR
VERSION:2.0
PRODID:Kansas Department of Wildlife and Parks Calendar Creator
METHOD:PUBLISH
BEGIN:VEVENT
DTSTAMP:20260423T145835
DTSTART:20260128T120000
DTEND:20260128T170000
SUMMARY:Kansas Wildlife & Parks Commission Meeting
DESCRIPTION:
X-ALT-DESC;FMTTYPE=text/html:
LOCATION:Docking State Office Building\, 915 SW Harrison Street\, Room 360 Topeka\, Kansas 
CLASS:PUBLIC
END:VEVENT
END:VCALENDAR
