BEGIN:VCALENDAR
VERSION:2.0
PRODID:Kansas Department of Wildlife and Parks Calendar Creator
METHOD:PUBLISH
BEGIN:VEVENT
DTSTAMP:20251021T102855
DTSTART:20251024T000000
DTEND:20251024T235900
SUMMARY:USD 343 Perry Lecompton Middle School
DESCRIPTION:<p><strong>Type</strong>: Conservation Clean Up</p><h3>Other Information</h3><p>Perry Lecompton Middle School will be picking up trash throughout the Park.</p>
X-ALT-DESC;FMTTYPE=text/html:<p><strong>Type</strong>: Conservation Clean Up</p><h3>Other Information</h3><p>Perry Lecompton Middle School will be picking up trash throughout the Park.</p>
LOCATION:Perry State Park\, 5441 W Lake Rd Ozawkie\, Kansas 66070
CLASS:PUBLIC
END:VEVENT
END:VCALENDAR
