BEGIN:VCALENDAR
VERSION:2.0
PRODID:Kansas Department of Wildlife and Parks Calendar Creator
METHOD:PUBLISH
BEGIN:VEVENT
DTSTAMP:20260320T122421
DTSTART:20260319T000000
DTEND:20260319T150000
SUMMARY:Junction City Hunter Ed Course _TEST LRC
DESCRIPTION:<p>fasd fasdfadfafdadf</p><p>gc svf g</p><p>&nbsp;fgs dfgsfgsfgsdfg</p><p>gfgs rfgvsdfgsvfdg</p>
X-ALT-DESC;FMTTYPE=text/html:<p>fasd fasdfadfafdadf</p><p>gc svf g</p><p>&nbsp;fgs dfgsfgsfgsdfg</p><p>gfgs rfgvsdfgsvfdg</p>
LOCATION:Nature Center (Great Plains Nature Center)\, 6232 E 29th St. N #2200 Wichita\, Kansas 67220
CLASS:PUBLIC
END:VEVENT
END:VCALENDAR
