BEGIN:VCALENDAR
VERSION:2.0
PRODID:Kansas Department of Wildlife and Parks Calendar Creator
METHOD:PUBLISH
BEGIN:VEVENT
DTSTAMP:20260310T141242
DTSTART:20260318T160000
DTEND:20260318T180000
SUMMARY:Cat Parade!
DESCRIPTION:<p>This is filler text.&nbsp;This is filler text.&nbsp;This is filler text.&nbsp;This is filler text.&nbsp;This is filler text.&nbsp;This is filler text.&nbsp;This is filler text.&nbsp;This is filler text.&nbsp;This is filler text.&nbsp;This is filler text.&nbsp;This is filler text.&nbsp;This is filler text.&nbsp;This is filler text.&nbsp;This is filler text.&nbsp;This is filler text.&nbsp;This is filler text.&nbsp;This is filler text.&nbsp;This is filler text.&nbsp;This is filler text.&nbsp;This is filler text.&nbsp;</p><p>This is filler text.&nbsp;This is filler text.&nbsp;This is filler text.&nbsp;This is filler text.&nbsp;This is filler text.&nbsp;</p><p>This is filler text.&nbsp;This is filler text.&nbsp;This is filler text.&nbsp;This is filler text.&nbsp;This is filler text.&nbsp;This is filler text.&nbsp;This is filler text.&nbsp;This is filler text.&nbsp;This is filler text.&nbsp;This is filler text.&nbsp;This is filler text.&nbsp;This is filler text.&nbsp;This is filler text.&nbsp;This is filler text.&nbsp;This is filler text.&nbsp;</p>
X-ALT-DESC;FMTTYPE=text/html:<p>This is filler text.&nbsp;This is filler text.&nbsp;This is filler text.&nbsp;This is filler text.&nbsp;This is filler text.&nbsp;This is filler text.&nbsp;This is filler text.&nbsp;This is filler text.&nbsp;This is filler text.&nbsp;This is filler text.&nbsp;This is filler text.&nbsp;This is filler text.&nbsp;This is filler text.&nbsp;This is filler text.&nbsp;This is filler text.&nbsp;This is filler text.&nbsp;This is filler text.&nbsp;This is filler text.&nbsp;This is filler text.&nbsp;This is filler text.&nbsp;</p><p>This is filler text.&nbsp;This is filler text.&nbsp;This is filler text.&nbsp;This is filler text.&nbsp;This is filler text.&nbsp;</p><p>This is filler text.&nbsp;This is filler text.&nbsp;This is filler text.&nbsp;This is filler text.&nbsp;This is filler text.&nbsp;This is filler text.&nbsp;This is filler text.&nbsp;This is filler text.&nbsp;This is filler text.&nbsp;This is filler text.&nbsp;This is filler text.&nbsp;This is filler text.&nbsp;This is filler text.&nbsp;This is filler text.&nbsp;This is filler text.&nbsp;</p>
LOCATION:Atchison State Fishing Lake and Wildlife Area\, 11692 Pawnee Rd. Atchison\, Kansas 66002
CLASS:PUBLIC
END:VEVENT
END:VCALENDAR
