BEGIN:VCALENDAR
VERSION:2.0
PRODID:Kansas Department of Wildlife and Parks Calendar Creator
METHOD:PUBLISH
BEGIN:VEVENT
DTSTAMP:20260310T141423
DTSTART:20260316T000000
DTEND:20260320T235900
SUMMARY:RO TEST event
DESCRIPTION:Test details about test event.
X-ALT-DESC;FMTTYPE=text/html:Test details about test event.
LOCATION:Black Kettle State Fishing Lake\, Moundridge Moundridge\, Kansas 67107
CLASS:PUBLIC
END:VEVENT
END:VCALENDAR
