BEGIN:VCALENDAR
VERSION:2.0
PRODID:Kansas Department of Wildlife and Parks Calendar Creator
METHOD:PUBLISH
BEGIN:VEVENT
DTSTAMP:20260310T141708
DTSTART:20260313T000000
DTEND:20260313T235900
SUMMARY:Brody's Event
DESCRIPTION:
X-ALT-DESC;FMTTYPE=text/html:
LOCATION:Ark Valley Gun Club\, Inc.\, 4500 E 117th St. N Valley Center\, Kansas 67135
CLASS:PUBLIC
END:VEVENT
END:VCALENDAR
