BEGIN:VCALENDAR
VERSION:2.0
PRODID:Kansas Department of Wildlife and Parks Calendar Creator
METHOD:PUBLISH
BEGIN:VEVENT
DTSTAMP:20260310T141753
DTSTART:20260310T000000
DTEND:20260312T235900
SUMMARY:JTD Event
DESCRIPTION:this is just a test
X-ALT-DESC;FMTTYPE=text/html:this is just a test
LOCATION:Clinton State Park\, 798 N 1415 Rd. Lawrence\, Kansas 66049
CLASS:PUBLIC
END:VEVENT
END:VCALENDAR
