BEGIN:VCALENDAR
VERSION:2.0
PRODID:Kansas Department of Wildlife and Parks Calendar Creator
METHOD:PUBLISH
BEGIN:VEVENT
DTSTAMP:20260310T142005
DTSTART:20260321T140000
DTEND:20260321T160000
SUMMARY:JW Event
DESCRIPTION:JW's test event
X-ALT-DESC;FMTTYPE=text/html:JW's test event
LOCATION:123 N Main Pratt\, Kansas 67124
CLASS:PUBLIC
END:VEVENT
END:VCALENDAR
