BEGIN:VCALENDAR
VERSION:2.0
PRODID:Kansas Department of Wildlife and Parks Calendar Creator
METHOD:PUBLISH
BEGIN:VEVENT
DTSTAMP:20260327T113650
DTSTART:20260510T130000
DTEND:20260510T160000
SUMMARY:Mother's Day Wildflower Sale
DESCRIPTION:<div xat24cr="" x1lziwak="" x1vvkbs="" xtlvy1s"="">Shop over 20 species of native Kansas plants suitable for both beginner and experienced native gardeners. Alongside our sale, we will have Geary County K-State Extension Office provide resources and guidance on native gardening and Valor Honey will be on-site with local honey available for purchase.</div><div xat24cr="" x1lziwak="" x1vvkbs="" xtlvy1s"="">For little ones needing a last minute gift, we will have arts and crafts for Mother’s Day and our DIY seed bombs to help with your journey of planting native species. Beware, you may get muddy!</div><div xat24cr="" x1lziwak="" x1vvkbs="" xtlvy1s"="">&nbsp;</div><div xat24cr="" x1lziwak="" x1vvkbs="" xtlvy1s"=""><span style="font-size: 1.25rem;">Not only can native plants add hardy, yet beautiful additions to your garden, they provide crucial food and shelter for our local pollinators too! We look forward to seeing you there.</span></div><div xat24cr="" x1lziwak="" x1vvkbs="" xtlvy1s"=""><span style="font-size: 1.25rem;">&nbsp;</span></div><div xat24cr="" x1lziwak="" x1vvkbs="" xtlvy1s"=""><span style="font-size: 1.25rem;">&nbsp;</span><span style="font-size: 1.25rem;">Cash or card accepted.</span></div>
X-ALT-DESC;FMTTYPE=text/html:<div xat24cr="" x1lziwak="" x1vvkbs="" xtlvy1s"="">Shop over 20 species of native Kansas plants suitable for both beginner and experienced native gardeners. Alongside our sale, we will have Geary County K-State Extension Office provide resources and guidance on native gardening and Valor Honey will be on-site with local honey available for purchase.</div><div xat24cr="" x1lziwak="" x1vvkbs="" xtlvy1s"="">For little ones needing a last minute gift, we will have arts and crafts for Mother’s Day and our DIY seed bombs to help with your journey of planting native species. Beware, you may get muddy!</div><div xat24cr="" x1lziwak="" x1vvkbs="" xtlvy1s"="">&nbsp;</div><div xat24cr="" x1lziwak="" x1vvkbs="" xtlvy1s"=""><span style="font-size: 1.25rem;">Not only can native plants add hardy, yet beautiful additions to your garden, they provide crucial food and shelter for our local pollinators too! We look forward to seeing you there.</span></div><div xat24cr="" x1lziwak="" x1vvkbs="" xtlvy1s"=""><span style="font-size: 1.25rem;">&nbsp;</span></div><div xat24cr="" x1lziwak="" x1vvkbs="" xtlvy1s"=""><span style="font-size: 1.25rem;">&nbsp;</span><span style="font-size: 1.25rem;">Cash or card accepted.</span></div>
LOCATION:Nature Center (Milford Nature Center)\, 3415 Hatchery Dr. Junction City\, Kansas 66441
CLASS:PUBLIC
END:VEVENT
END:VCALENDAR
