BEGIN:VCALENDAR
VERSION:2.0
PRODID:Kansas Department of Wildlife and Parks Calendar Creator
METHOD:PUBLISH
BEGIN:VEVENT
DTSTAMP:20260414T084739
DTSTART:20260606T000000
DTEND:20260606T235900
SUMMARY:Free Park Entrance Day, Free Fishing Day & Annual Youth Fishing Tournament-Glen Elder State Park
DESCRIPTION:<section><article><div><p>Glen Elder State Park will have free park entry, free fishing and a free Youth Fishing Tournament on June 6, 2026. Information about all three of the events are as follows:</p><ul>    <li><em>&nbsp;<span style="font-size: 1.25rem;">Secretary Kennedy has&nbsp;designated&nbsp;several park-specific Free Entrance Days that align with local events and programs designed to engage families, outdoor enthusiasts, and newcomers to Kansas state parks. &nbsp;Camping fees still apply.&nbsp; </span></em></li></ul><ul>    <li><em>&nbsp;Free Fishing Days will be June 6 and 7, 2026. On those days, anyone can fish by legal means without a Kansas fishing license. Length and creel limits remain in effect.&nbsp;</em></li></ul><ul>    <li><em>For more information about the Youth Fishing Tournament, please contact Paul Stockebrand at 785-545-3345.</em></li></ul></div><div>&nbsp;</div><div></div><div></div><div></div><div></div><div></div></article></section><div></div>
X-ALT-DESC;FMTTYPE=text/html:<section><article><div><p>Glen Elder State Park will have free park entry, free fishing and a free Youth Fishing Tournament on June 6, 2026. Information about all three of the events are as follows:</p><ul>    <li><em>&nbsp;<span style="font-size: 1.25rem;">Secretary Kennedy has&nbsp;designated&nbsp;several park-specific Free Entrance Days that align with local events and programs designed to engage families, outdoor enthusiasts, and newcomers to Kansas state parks. &nbsp;Camping fees still apply.&nbsp; </span></em></li></ul><ul>    <li><em>&nbsp;Free Fishing Days will be June 6 and 7, 2026. On those days, anyone can fish by legal means without a Kansas fishing license. Length and creel limits remain in effect.&nbsp;</em></li></ul><ul>    <li><em>For more information about the Youth Fishing Tournament, please contact Paul Stockebrand at 785-545-3345.</em></li></ul></div><div>&nbsp;</div><div></div><div></div><div></div><div></div><div></div></article></section><div></div>
LOCATION:Glen Elder State Park\, 2131 180 Rd. Glen Elder\, Kansas 67446
CLASS:PUBLIC
END:VEVENT
END:VCALENDAR
