BEGIN:VCALENDAR
VERSION:2.0
PRODID:Kansas Department of Wildlife and Parks Calendar Creator
METHOD:PUBLISH
BEGIN:VEVENT
DTSTAMP:20260407T134317
DTSTART:20260606T093000
DTEND:20260606T133000
SUMMARY:Prairie Spirit Trail 30th Anniversary Celebration
DESCRIPTION:<div><p> </p>The Prairie Spirit Rail Trail State Park will be celebrating their 30th Birthday, and YOU are invited! It will be a day of food, fun and memories shared-with those who were there from day one, to those who have just discovered the joy of the trail. &nbsp;</div><div><p>&nbsp;</p><p><a href="https://www.garnettkansas.gov/page/prairie-spirit-rail-trail-state-park" target="_blank" rel="noopener">Learn more about the anniversary here.</a></p></div>
X-ALT-DESC;FMTTYPE=text/html:<div><p> </p>The Prairie Spirit Rail Trail State Park will be celebrating their 30th Birthday, and YOU are invited! It will be a day of food, fun and memories shared-with those who were there from day one, to those who have just discovered the joy of the trail. &nbsp;</div><div><p>&nbsp;</p><p><a href="https://www.garnettkansas.gov/page/prairie-spirit-rail-trail-state-park" target="_blank" rel="noopener">Learn more about the anniversary here.</a></p></div>
LOCATION:Prairie Spirit Trail\, 419 S Oak St. Garnett\, Kansas 66032
CLASS:PUBLIC
END:VEVENT
END:VCALENDAR
