BEGIN:VCALENDAR
VERSION:2.0
PRODID:Kansas Department of Wildlife and Parks Calendar Creator
METHOD:PUBLISH
BEGIN:VEVENT
DTSTAMP:20260407T134941
DTSTART:20260424T110000
DTEND:20260426T140000
SUMMARY:Becoming an Outdoors-Woman (BOW) Spring Workshop
DESCRIPTION:<p>Becoming an Outdoors-Woman (BOW) is a weekend event designed for women (18+) who want to explore or expand their outdoor skills. Choose 4 classes from more than 20 options - like kayaking, intro to fishing, dutch oven cooking, archery, shooting sports, camping, and more. Build your perfect weekend adventure and gain confidence and experience alongside like-minded women! No equipment or experience is needed—just come ready to learn! </p><p>REGISTRATION IS FULL FOR THE 2026 SPRING BOW...BUT YOU CAN GET ON OUR WAITLIST!</p><p>Email&nbsp;<a href="mailto:&#77;&#97;&#99;&#107;&#101;&#110;&#122;&#105;&#101;&#46;&#82;&#101;&#104;&#64;&#75;&#83;&#46;&#71;&#79;&#86;&#63;&#115;&#117;&#98;&#106;&#101;&#99;&#116;&#61;&#66;&#79;&#87;&#32;&#87;&#97;&#105;&#116;&#108;&#105;&#115;&#116;&#32;&#73;&#110;&#113;&#117;&#105;&#114;&#121;">Mackenzie.Reh@KS.GOV</a></p><p><b>COST: $275</b><br>Includes lodging, all meals, four hands-on 3.5 hour classes of your choice, all equipment needed, swag, valuable resources, a lifelong connection to an incredible outdoor community, and a memorable weekend!</p><p><b>LIMITED TO 75 PARTICIPANTS</b></p>
X-ALT-DESC;FMTTYPE=text/html:<p>Becoming an Outdoors-Woman (BOW) is a weekend event designed for women (18+) who want to explore or expand their outdoor skills. Choose 4 classes from more than 20 options - like kayaking, intro to fishing, dutch oven cooking, archery, shooting sports, camping, and more. Build your perfect weekend adventure and gain confidence and experience alongside like-minded women! No equipment or experience is needed—just come ready to learn! </p><p>REGISTRATION IS FULL FOR THE 2026 SPRING BOW...BUT YOU CAN GET ON OUR WAITLIST!</p><p>Email&nbsp;<a href="mailto:&#77;&#97;&#99;&#107;&#101;&#110;&#122;&#105;&#101;&#46;&#82;&#101;&#104;&#64;&#75;&#83;&#46;&#71;&#79;&#86;&#63;&#115;&#117;&#98;&#106;&#101;&#99;&#116;&#61;&#66;&#79;&#87;&#32;&#87;&#97;&#105;&#116;&#108;&#105;&#115;&#116;&#32;&#73;&#110;&#113;&#117;&#105;&#114;&#121;">Mackenzie.Reh@KS.GOV</a></p><p><b>COST: $275</b><br>Includes lodging, all meals, four hands-on 3.5 hour classes of your choice, all equipment needed, swag, valuable resources, a lifelong connection to an incredible outdoor community, and a memorable weekend!</p><p><b>LIMITED TO 75 PARTICIPANTS</b></p>
LOCATION:
CLASS:PUBLIC
END:VEVENT
END:VCALENDAR
