BEGIN:VCALENDAR
VERSION:2.0
PRODID:Kansas Department of Wildlife and Parks Calendar Creator
METHOD:PUBLISH
BEGIN:VEVENT
DTSTAMP:20260414T071501
DTSTART:20260610T090000
DTEND:20260610T160000
SUMMARY:Golf Cart Ride
DESCRIPTION:Contact Ruth Theis to register:&nbsp;913-669-4969<br><br>The Friends of the Prairie Spirit Trail will be hosting a golf cart ride for senior citizens to provide them mobility to be able to enjoy the many sights and sounds the trail has to offer. The ride will start at the Garnett Elementary School. There is Parking on the South side, and the rides launch from behind the school off a hard surface.
X-ALT-DESC;FMTTYPE=text/html:Contact Ruth Theis to register:&nbsp;913-669-4969<br><br>The Friends of the Prairie Spirit Trail will be hosting a golf cart ride for senior citizens to provide them mobility to be able to enjoy the many sights and sounds the trail has to offer. The ride will start at the Garnett Elementary School. There is Parking on the South side, and the rides launch from behind the school off a hard surface.
LOCATION:
CLASS:PUBLIC
END:VEVENT
END:VCALENDAR
