BEGIN:VCALENDAR
VERSION:2.0
PRODID:Kansas Department of Wildlife and Parks Calendar Creator
METHOD:PUBLISH
BEGIN:VEVENT
DTSTAMP:20260407T140012
DTSTART:20260616T060000
DTEND:20260616T180000
SUMMARY:Kansas Trails Inc World Record Attempt
DESCRIPTION:Join Kansas Trails Inc as they attempt a world record soccer pass attempt. More details to come.<a href="https://kstrails.org/events/" target="_blank" rel="noopener"> Visit for more information.&nbsp;</a>
X-ALT-DESC;FMTTYPE=text/html:Join Kansas Trails Inc as they attempt a world record soccer pass attempt. More details to come.<a href="https://kstrails.org/events/" target="_blank" rel="noopener"> Visit for more information.&nbsp;</a>
LOCATION:Flint Hills Trail State Park\, 1400 South St. Osawatomie\, Kansas 66064
CLASS:PUBLIC
END:VEVENT
END:VCALENDAR
