BEGIN:VCALENDAR
VERSION:2.0
PRODID:Kansas Department of Wildlife and Parks Calendar Creator
METHOD:PUBLISH
BEGIN:VEVENT
DTSTAMP:20251021T102916
DTSTART:20251026T000000
DTEND:20251026T235900
SUMMARY:Kansas Rails to Trails Extravaganza - Outlaw 100
DESCRIPTION:<p><strong>Type</strong>: Extreme Running<br><strong>Dates</strong>: 10/25/25 - 10/26/25</p><h3>Other Information</h3><p>The Kansas Rails-To-Trails Extravaganza runs every fall on the Prairie Spirit Trail.&nbsp; Choose from 1/2 Marathon, Full Marathon, 50K, 50M, 100K, and 100M distances.&nbsp;</p><p>More Info to come.</p>
X-ALT-DESC;FMTTYPE=text/html:<p><strong>Type</strong>: Extreme Running<br><strong>Dates</strong>: 10/25/25 - 10/26/25</p><h3>Other Information</h3><p>The Kansas Rails-To-Trails Extravaganza runs every fall on the Prairie Spirit Trail.&nbsp; Choose from 1/2 Marathon, Full Marathon, 50K, 50M, 100K, and 100M distances.&nbsp;</p><p>More Info to come.</p>
LOCATION:Prairie Spirit Trail - Ottawa Trailhead\, 1800 S Princeton Cir Dr Ottawa\, Kansas 66067
CLASS:PUBLIC
END:VEVENT
END:VCALENDAR
