BEGIN:VCALENDAR
VERSION:2.0
PRODID:Kansas Department of Wildlife and Parks Calendar Creator
METHOD:PUBLISH
BEGIN:VEVENT
DTSTAMP:20260407T140051
DTSTART:20260426T090000
DTEND:20260426T150000
SUMMARY:Hybrid Hunter Ed Field Day- Republic Co.
DESCRIPTION:<p>Location:</p><p> Pete's Pit 1145 80th Rd&nbsp; &nbsp;Scandia, KS 66966&nbsp; &nbsp;1/2 North of 36 on 8th Rd.</p><p>Registration and additional information is available online at&nbsp;<a href="https://www.safehunters.com/kansas/ClassDetails.asp?Class_SchedID=1789" target="_blank" rel="noopener">SafeHunter.com</a></p><p>Protecting our hunting heritage through safe,&nbsp;knowledgeable&nbsp;and responsible hunters.&nbsp;Kansas Hunter Education teaches new hunters to be ethical,&nbsp;safe&nbsp;and knowledgeable. The course consists of subjects covering hunter responsibility, ethics, fair chase, history of firearms, firearms basics, ammunition, basic gun safety, field safety, bowhunting, conservation and wildlife management, wildlife of Kansas, outdoor emergencies, Kansas hunting regulations and boating safety for hunters. Where possible, students may live fire and/or go through simulated hunting conditions.&nbsp;</p><p><strong>Class Notes:</strong>&nbsp; Students must complete the online portion (<a href="https://nra.yourlearningportal.com/core/default.aspx" target="_blank" rel="noopener">NRA Learning Portal</a>) of the hybrid class prior to registering for this field day or any other found on the KDWP website.<br><br>After registering for a class. Bring a screenshot or the printed Field Day Qualifier certificate to the class.</p>
X-ALT-DESC;FMTTYPE=text/html:<p>Location:</p><p> Pete's Pit 1145 80th Rd&nbsp; &nbsp;Scandia, KS 66966&nbsp; &nbsp;1/2 North of 36 on 8th Rd.</p><p>Registration and additional information is available online at&nbsp;<a href="https://www.safehunters.com/kansas/ClassDetails.asp?Class_SchedID=1789" target="_blank" rel="noopener">SafeHunter.com</a></p><p>Protecting our hunting heritage through safe,&nbsp;knowledgeable&nbsp;and responsible hunters.&nbsp;Kansas Hunter Education teaches new hunters to be ethical,&nbsp;safe&nbsp;and knowledgeable. The course consists of subjects covering hunter responsibility, ethics, fair chase, history of firearms, firearms basics, ammunition, basic gun safety, field safety, bowhunting, conservation and wildlife management, wildlife of Kansas, outdoor emergencies, Kansas hunting regulations and boating safety for hunters. Where possible, students may live fire and/or go through simulated hunting conditions.&nbsp;</p><p><strong>Class Notes:</strong>&nbsp; Students must complete the online portion (<a href="https://nra.yourlearningportal.com/core/default.aspx" target="_blank" rel="noopener">NRA Learning Portal</a>) of the hybrid class prior to registering for this field day or any other found on the KDWP website.<br><br>After registering for a class. Bring a screenshot or the printed Field Day Qualifier certificate to the class.</p>
LOCATION:
CLASS:PUBLIC
END:VEVENT
END:VCALENDAR
