BEGIN:VCALENDAR
VERSION:2.0
PRODID:Kansas Department of Wildlife and Parks Calendar Creator
METHOD:PUBLISH
BEGIN:VEVENT
DTSTAMP:20260407T140714
DTSTART:20260620T080000
DTEND:20260621T160000
SUMMARY:Moonrise Underground Ottawa Bike and Trail
DESCRIPTION:<p>Moonrise Underground is a new event for 2026 that will highlight the Prairie Spirit Trail, Southwind Trail, Base Camp Humboldt, and Downtown Humboldt. The group will start in Ottawa on Saturday, June 20th (8:00 am) and ride the Prairie Spirit and Southwind Trails to Base Camp Humboldt.&nbsp;</p><p>For More Details check out&nbsp;<a href="https://ottawabikeandtrail.com/" target="_blank" rel="noopener">Ottawa Bike and Trail Bicycle Shop – Ottawa Bike and Trail, LLC</a></p>
X-ALT-DESC;FMTTYPE=text/html:<p>Moonrise Underground is a new event for 2026 that will highlight the Prairie Spirit Trail, Southwind Trail, Base Camp Humboldt, and Downtown Humboldt. The group will start in Ottawa on Saturday, June 20th (8:00 am) and ride the Prairie Spirit and Southwind Trails to Base Camp Humboldt.&nbsp;</p><p>For More Details check out&nbsp;<a href="https://ottawabikeandtrail.com/" target="_blank" rel="noopener">Ottawa Bike and Trail Bicycle Shop – Ottawa Bike and Trail, LLC</a></p>
LOCATION:Prairie Spirit Trail\, 419 S Oak St. Garnett\, Kansas 66032
CLASS:PUBLIC
END:VEVENT
END:VCALENDAR
