BEGIN:VCALENDAR
VERSION:2.0
PRODID:Kansas Department of Wildlife and Parks Calendar Creator
METHOD:PUBLISH
BEGIN:VEVENT
DTSTAMP:20260407T141508
DTSTART:20260502T130000
DTEND:20260502T160000
SUMMARY:Outdoor Kansas for Kids Day (OK Kids Day)
DESCRIPTION:<p scxw101959572="" bcx0"="" paraid="221333842" paraeid="{d8c3eef1-16f7-4f3b-8cbf-9d1090c5eea6}{41}">Outdoor Kansas for Kids (OK Kids) is a hands-on events that give kids the chance to explore activities.&nbsp; Contact the Park Office for details on these great activities. They are always free and open to the public.&nbsp;</p><p scxw101959572="" bcx0"="" paraid="1473649871" paraeid="{d8c3eef1-16f7-4f3b-8cbf-9d1090c5eea6}{103}">OK Kids events are made possible through grant funding by the Kansas&nbsp;Wildscape&nbsp;Foundation.&nbsp;</p><p>&nbsp;<span style="font-size: 1.25rem;">For More information visit:</span></p><p><a href="https://www.facebook.com/MeadeStatePark" target="_blank" rel="noopener">Meade Facebook Page</a></p>
X-ALT-DESC;FMTTYPE=text/html:<p scxw101959572="" bcx0"="" paraid="221333842" paraeid="{d8c3eef1-16f7-4f3b-8cbf-9d1090c5eea6}{41}">Outdoor Kansas for Kids (OK Kids) is a hands-on events that give kids the chance to explore activities.&nbsp; Contact the Park Office for details on these great activities. They are always free and open to the public.&nbsp;</p><p scxw101959572="" bcx0"="" paraid="1473649871" paraeid="{d8c3eef1-16f7-4f3b-8cbf-9d1090c5eea6}{103}">OK Kids events are made possible through grant funding by the Kansas&nbsp;Wildscape&nbsp;Foundation.&nbsp;</p><p>&nbsp;<span style="font-size: 1.25rem;">For More information visit:</span></p><p><a href="https://www.facebook.com/MeadeStatePark" target="_blank" rel="noopener">Meade Facebook Page</a></p>
LOCATION:
CLASS:PUBLIC
END:VEVENT
END:VCALENDAR
