BEGIN:VCALENDAR
VERSION:2.0
PRODID:Kansas Department of Wildlife and Parks Calendar Creator
METHOD:PUBLISH
BEGIN:VEVENT
DTSTAMP:20260407T142329
DTSTART:20260704T214500
DTEND:20260704T223000
SUMMARY:Fireworks Display
DESCRIPTION:Sponsored by the Waconda Cultural Association. Waconda Lakefest Celebrates America 250 at the Osage Campground. Food trucks, music, auctions / raffles, America 250 Activities, Visitor Center, WCA membership drive. Marina Activities. G.E Big Dam Run by Glen Elder Lions Club. Fireworks at dusk. <a href="https://www.waconda.com/annual-events.html" target="_blank" rel="noopener">Event page found here.</a>
X-ALT-DESC;FMTTYPE=text/html:Sponsored by the Waconda Cultural Association. Waconda Lakefest Celebrates America 250 at the Osage Campground. Food trucks, music, auctions / raffles, America 250 Activities, Visitor Center, WCA membership drive. Marina Activities. G.E Big Dam Run by Glen Elder Lions Club. Fireworks at dusk. <a href="https://www.waconda.com/annual-events.html" target="_blank" rel="noopener">Event page found here.</a>
LOCATION:Glen Elder State Park\, 2131 180 Rd. Glen Elder\, Kansas 67446
CLASS:PUBLIC
END:VEVENT
END:VCALENDAR
