BEGIN:VCALENDAR
VERSION:2.0
PRODID:Kansas Department of Wildlife and Parks Calendar Creator
METHOD:PUBLISH
BEGIN:VEVENT
DTSTAMP:20260407T142345
DTSTART:20260502T090000
DTEND:20260502T140000
SUMMARY:Hybrid Hunter Ed Field Day- Harvey Co.
DESCRIPTION:<p>Location:&nbsp; Newton Police Training Facility- 216 E 6th St. Newton, KS</p><p>Contact: Scott Powell at 316-284-6030</p><p><a href="https://www.safehunters.com/kansas/classdetails.asp?Class_SchedID=1777" target="_blank" rel="noopener">Click here to register</a></p><p>&nbsp;<strong>Location Notes:&nbsp;</strong>Class will start at the NPD training facility then will move to the Hesston Range located at 8900 N Hoover, Hesston.</p><p><strong>Class Notes:</strong>&nbsp;Students must complete the online portion (nra.yourlearningportal.com) of the hybrid class prior to registering for this field day or any other found on the KDWP website.<br><br>After registering for a class. Bring a screenshot or the printed Field Day Qualifier certificate to the class.</p>Protecting our hunting heritage through safe,&nbsp;knowledgeable&nbsp;and responsible hunters.&nbsp;Kansas Hunter Education teaches new hunters to be ethical,&nbsp;safe&nbsp;and knowledgeable. The course consists of subjects covering hunter responsibility, ethics, fair chase, history of firearms, firearms basics, ammunition, basic gun safety, field safety, bowhunting, conservation and wildlife management, wildlife of Kansas, outdoor emergencies, Kansas hunting regulations and boating safety for hunters. Where possible, students may live fire and/or go through simulated hunting conditions.&nbsp;<br>
X-ALT-DESC;FMTTYPE=text/html:<p>Location:&nbsp; Newton Police Training Facility- 216 E 6th St. Newton, KS</p><p>Contact: Scott Powell at 316-284-6030</p><p><a href="https://www.safehunters.com/kansas/classdetails.asp?Class_SchedID=1777" target="_blank" rel="noopener">Click here to register</a></p><p>&nbsp;<strong>Location Notes:&nbsp;</strong>Class will start at the NPD training facility then will move to the Hesston Range located at 8900 N Hoover, Hesston.</p><p><strong>Class Notes:</strong>&nbsp;Students must complete the online portion (nra.yourlearningportal.com) of the hybrid class prior to registering for this field day or any other found on the KDWP website.<br><br>After registering for a class. Bring a screenshot or the printed Field Day Qualifier certificate to the class.</p>Protecting our hunting heritage through safe,&nbsp;knowledgeable&nbsp;and responsible hunters.&nbsp;Kansas Hunter Education teaches new hunters to be ethical,&nbsp;safe&nbsp;and knowledgeable. The course consists of subjects covering hunter responsibility, ethics, fair chase, history of firearms, firearms basics, ammunition, basic gun safety, field safety, bowhunting, conservation and wildlife management, wildlife of Kansas, outdoor emergencies, Kansas hunting regulations and boating safety for hunters. Where possible, students may live fire and/or go through simulated hunting conditions.&nbsp;<br>
LOCATION:
CLASS:PUBLIC
END:VEVENT
END:VCALENDAR
