BEGIN:VCALENDAR
VERSION:2.0
PRODID:Kansas Department of Wildlife and Parks Calendar Creator
METHOD:PUBLISH
BEGIN:VEVENT
DTSTAMP:20260407T143401
DTSTART:20260501T180000
DTEND:20260501T210000
SUMMARY:Hunter Education Course - Cherokee Co.
DESCRIPTION:<p>Location: </p><p>Cherokee County Sportsman Association&nbsp; Corner of NW 70th/ NW Belleview Rd.&nbsp; &nbsp;Columbus KS 66725&nbsp;</p><p>Building located at NE of intersection</p><p><a href="https://www.safehunters.com/kansas/classdetails.asp?Class_SchedID=1795" target="_blank" rel="noopener">Sign up here</a></p><p>&nbsp;<strong>Class Notes:</strong>&nbsp; Kansas Hunter's Education teaches new hunters to be ethical, safe, and knowledgeable.</p><p>The course consists of subjects covering hunter responsibility, ethics, fair chase, history of firearms, firearms basics, ammunition, basic gun safety, field safety, bowhunting, conservation and wildlife management, wildlife of Kansas, outdoor emergencies, Kansas hunting regulations and boating safety for hunters.<br><br>Where possible, students may live fire and/or go through simulated hunting conditions.</p><p>If you sign up and plans change, Please Self Cancel so seat will be opened to someone that can attend!!!!!!</p><p><strong>Instructor&nbsp;Notes:&nbsp;&nbsp;</strong>On Friday drinks and snacks will be provided by the Cherokee County Sportsmen Club.&nbsp; Light breakfast and lunch, plus drinks and snacks will be provided on Saturday by the Cherokee Sportsmen Club.</p><p>Please use FULL LEGAL NAME including MIDDLE initial when registering. PLEASE DO NOT SIGN UP if student(s) are already Hunter Education Certified from any state. Check back here the week of the class for any class changes or cancellations due to weather or other. We do not keep a waiting list. Students must attend both days of class to be certified.<br><br>We ask that you be on time for class.</p>
X-ALT-DESC;FMTTYPE=text/html:<p>Location: </p><p>Cherokee County Sportsman Association&nbsp; Corner of NW 70th/ NW Belleview Rd.&nbsp; &nbsp;Columbus KS 66725&nbsp;</p><p>Building located at NE of intersection</p><p><a href="https://www.safehunters.com/kansas/classdetails.asp?Class_SchedID=1795" target="_blank" rel="noopener">Sign up here</a></p><p>&nbsp;<strong>Class Notes:</strong>&nbsp; Kansas Hunter's Education teaches new hunters to be ethical, safe, and knowledgeable.</p><p>The course consists of subjects covering hunter responsibility, ethics, fair chase, history of firearms, firearms basics, ammunition, basic gun safety, field safety, bowhunting, conservation and wildlife management, wildlife of Kansas, outdoor emergencies, Kansas hunting regulations and boating safety for hunters.<br><br>Where possible, students may live fire and/or go through simulated hunting conditions.</p><p>If you sign up and plans change, Please Self Cancel so seat will be opened to someone that can attend!!!!!!</p><p><strong>Instructor&nbsp;Notes:&nbsp;&nbsp;</strong>On Friday drinks and snacks will be provided by the Cherokee County Sportsmen Club.&nbsp; Light breakfast and lunch, plus drinks and snacks will be provided on Saturday by the Cherokee Sportsmen Club.</p><p>Please use FULL LEGAL NAME including MIDDLE initial when registering. PLEASE DO NOT SIGN UP if student(s) are already Hunter Education Certified from any state. Check back here the week of the class for any class changes or cancellations due to weather or other. We do not keep a waiting list. Students must attend both days of class to be certified.<br><br>We ask that you be on time for class.</p>
LOCATION:
CLASS:PUBLIC
END:VEVENT
END:VCALENDAR
