BEGIN:VCALENDAR
VERSION:2.0
PRODID:Kansas Department of Wildlife and Parks Calendar Creator
METHOD:PUBLISH
BEGIN:VEVENT
DTSTAMP:20260408T085347
DTSTART:20260429T000000
DTEND:20260429T235900
SUMMARY:Free Park Entry Day- Tuttle Creek State Park
DESCRIPTION:Secretary Kennedy has&nbsp;designated&nbsp;several park-specific Free Entrance Days that align with local events and programs designed to engage families, outdoor enthusiasts, and newcomers to Kansas state parks. &nbsp;Camping fees still apply.&nbsp;
X-ALT-DESC;FMTTYPE=text/html:Secretary Kennedy has&nbsp;designated&nbsp;several park-specific Free Entrance Days that align with local events and programs designed to engage families, outdoor enthusiasts, and newcomers to Kansas state parks. &nbsp;Camping fees still apply.&nbsp;
LOCATION:Tuttle Creek State Park\, 5800 River Pond Rd. Manhattan\, Kansas 66502
CLASS:PUBLIC
END:VEVENT
END:VCALENDAR
