BEGIN:VCALENDAR
VERSION:2.0
PRODID:Kansas Department of Wildlife and Parks Calendar Creator
METHOD:PUBLISH
BEGIN:VEVENT
DTSTAMP:20260408T070311
DTSTART:20260704T000000
DTEND:20260704T235900
SUMMARY:Friends of Webster State Park Fireworks and Celebration
DESCRIPTION:
X-ALT-DESC;FMTTYPE=text/html:
LOCATION:Webster State Park\, 1140 10 Rd. Stockton\, Kansas 67669
CLASS:PUBLIC
END:VEVENT
END:VCALENDAR
