BEGIN:VCALENDAR
VERSION:2.0
PRODID:Kansas Department of Wildlife and Parks Calendar Creator
METHOD:PUBLISH
BEGIN:VEVENT
DTSTAMP:20260408T071150
DTSTART:20260726T103000
DTEND:20260726T150000
SUMMARY:Hybrid Hunter Education Course-Johnson County-Lenexa
DESCRIPTION:<p><a href="https://www.safehunters.com/kansas/ClassDetails.asp?Class_SchedID=1774" target="_blank" rel="noopener">Please refer to the Safe Hunters site for more details and to register.&nbsp;</a></p><p><span style="font-size: 1.25rem;"><em>Protecting our hunting heritage through safe,&nbsp;knowledgeable&nbsp;and responsible hunters.&nbsp;Kansas Hunter Education teaches new hunters to be ethical,&nbsp;safe&nbsp;and knowledgeable. The course consists of subjects covering hunter responsibility, ethics, fair chase, history of firearms, firearms basics, ammunition, basic gun safety, field safety, bowhunting, conservation and wildlife management, wildlife of Kansas, outdoor emergencies, Kansas hunting regulations and boating safety for hunters. Where possible, students may live fire and/or go through simulated hunting conditions.&nbsp;</em></span></p>
X-ALT-DESC;FMTTYPE=text/html:<p><a href="https://www.safehunters.com/kansas/ClassDetails.asp?Class_SchedID=1774" target="_blank" rel="noopener">Please refer to the Safe Hunters site for more details and to register.&nbsp;</a></p><p><span style="font-size: 1.25rem;"><em>Protecting our hunting heritage through safe,&nbsp;knowledgeable&nbsp;and responsible hunters.&nbsp;Kansas Hunter Education teaches new hunters to be ethical,&nbsp;safe&nbsp;and knowledgeable. The course consists of subjects covering hunter responsibility, ethics, fair chase, history of firearms, firearms basics, ammunition, basic gun safety, field safety, bowhunting, conservation and wildlife management, wildlife of Kansas, outdoor emergencies, Kansas hunting regulations and boating safety for hunters. Where possible, students may live fire and/or go through simulated hunting conditions.&nbsp;</em></span></p>
LOCATION:Powder Creek Shooting Park\, 8601 Monticello Lenexa\, Kansas 66227
CLASS:PUBLIC
END:VEVENT
END:VCALENDAR
