BEGIN:VCALENDAR
VERSION:2.0
PRODID:Kansas Department of Wildlife and Parks Calendar Creator
METHOD:PUBLISH
BEGIN:VEVENT
DTSTAMP:20260408T071833
DTSTART:20260807T180000
DTEND:20260808T160000
SUMMARY:Traditional Hunter Education Course-Dickinson County-Chapman
DESCRIPTION:<p>Traditional Hunter Education Course held at Indian Hill Gold Course Banquet Room in Chapman. Friday evening class runs from 6-8pm; Saturday is from 6am-4pm. <a href="https://www.safehunters.com/kansas/classdetails.asp?Class_SchedID=1771" target="_blank" rel="noopener">Please refer to the Safe Hunters site for more information.</a></p><p><em>Protecting our hunting heritage through safe,&nbsp;knowledgeable&nbsp;and responsible hunters.&nbsp;Kansas Hunter Education teaches new hunters to be ethical,&nbsp;safe&nbsp;and knowledgeable. The course consists of subjects covering hunter responsibility, ethics, fair chase, history of firearms, firearms basics, ammunition, basic gun safety, field safety, bowhunting, conservation and wildlife management, wildlife of Kansas, outdoor emergencies, Kansas hunting regulations and boating safety for hunters. Where possible, students may live fire and/or go through simulated hunting conditions.&nbsp;</em></p>
X-ALT-DESC;FMTTYPE=text/html:<p>Traditional Hunter Education Course held at Indian Hill Gold Course Banquet Room in Chapman. Friday evening class runs from 6-8pm; Saturday is from 6am-4pm. <a href="https://www.safehunters.com/kansas/classdetails.asp?Class_SchedID=1771" target="_blank" rel="noopener">Please refer to the Safe Hunters site for more information.</a></p><p><em>Protecting our hunting heritage through safe,&nbsp;knowledgeable&nbsp;and responsible hunters.&nbsp;Kansas Hunter Education teaches new hunters to be ethical,&nbsp;safe&nbsp;and knowledgeable. The course consists of subjects covering hunter responsibility, ethics, fair chase, history of firearms, firearms basics, ammunition, basic gun safety, field safety, bowhunting, conservation and wildlife management, wildlife of Kansas, outdoor emergencies, Kansas hunting regulations and boating safety for hunters. Where possible, students may live fire and/or go through simulated hunting conditions.&nbsp;</em></p>
LOCATION:
CLASS:PUBLIC
END:VEVENT
END:VCALENDAR
