BEGIN:VCALENDAR
VERSION:2.0
PRODID:Kansas Department of Wildlife and Parks Calendar Creator
METHOD:PUBLISH
BEGIN:VEVENT
DTSTAMP:20260408T072338
DTSTART:20260905T190000
DTEND:20260905T230000
SUMMARY:Cedar Bluff State Park Labor Day Beach Party
DESCRIPTION:<p>Celebrate Labor Day Weekend with a beachside bash at Cedar Bluff State Park on Saturday, August 30, 2025, from 7 PM to 11 PM! Enjoy an evening of live DJ music, outdoor games, and fun in the sand under the stars. Dance along to the beats, challenge friends to games, or unwind by the water as we say goodbye to summer in style. Bring your blankets, lawn chairs, and summer spirit for a night to remember!&nbsp;</p><p>Meet at Cedar Bluff State Park - Bluffton Shelter</p><p>Make the most of your Labor Day Weekend—see you at the beach!&nbsp;&nbsp;</p><p>Contact<strong>&nbsp;</strong>Jacque Vice:&nbsp;<span style="font-size: 1.25rem;">785-726-3212</span></p>
X-ALT-DESC;FMTTYPE=text/html:<p>Celebrate Labor Day Weekend with a beachside bash at Cedar Bluff State Park on Saturday, August 30, 2025, from 7 PM to 11 PM! Enjoy an evening of live DJ music, outdoor games, and fun in the sand under the stars. Dance along to the beats, challenge friends to games, or unwind by the water as we say goodbye to summer in style. Bring your blankets, lawn chairs, and summer spirit for a night to remember!&nbsp;</p><p>Meet at Cedar Bluff State Park - Bluffton Shelter</p><p>Make the most of your Labor Day Weekend—see you at the beach!&nbsp;&nbsp;</p><p>Contact<strong>&nbsp;</strong>Jacque Vice:&nbsp;<span style="font-size: 1.25rem;">785-726-3212</span></p>
LOCATION:Cedar Bluff State Park\, 32001 KS-147 Ellis\, Kansas 67637
CLASS:PUBLIC
END:VEVENT
END:VCALENDAR
