BEGIN:VCALENDAR
VERSION:2.0
PRODID:Kansas Department of Wildlife and Parks Calendar Creator
METHOD:PUBLISH
BEGIN:VEVENT
DTSTAMP:20260408T073258
DTSTART:20260903T000000
DTEND:20260907T235900
SUMMARY:ANNUAL Friends of Perry Lake Wild Horse Trails
DESCRIPTION:<div><p><span style="font-size: 1.25rem;">Friends of Perry Wild Horse Annual Celebration</span></p><p>Location: Wild Horse Equestrian Shelter, Campground and Trails</p><ul>    <li>9/4 6:00 pm Potluck</li>    <li>9/5 Trail Rides Registration start at 8am</li></ul><p><b><a href="https://www.facebook.com/groups/260003364015019/" target="_blank" rel="noopener">Check Facebook "Let's Ride--Perry Lake" for updates and information.</a></b></p><p>Vehicle Permits are REQUIRED FOR ALL VEHICLES to enter the State Park- No matter the length of stay.</p><p><b>All camping fees will apply.</b></p><p>Contact<strong>&nbsp;</strong>Patty Jolliffe for more information:&nbsp;913-449-1449</p></div>
X-ALT-DESC;FMTTYPE=text/html:<div><p><span style="font-size: 1.25rem;">Friends of Perry Wild Horse Annual Celebration</span></p><p>Location: Wild Horse Equestrian Shelter, Campground and Trails</p><ul>    <li>9/4 6:00 pm Potluck</li>    <li>9/5 Trail Rides Registration start at 8am</li></ul><p><b><a href="https://www.facebook.com/groups/260003364015019/" target="_blank" rel="noopener">Check Facebook "Let's Ride--Perry Lake" for updates and information.</a></b></p><p>Vehicle Permits are REQUIRED FOR ALL VEHICLES to enter the State Park- No matter the length of stay.</p><p><b>All camping fees will apply.</b></p><p>Contact<strong>&nbsp;</strong>Patty Jolliffe for more information:&nbsp;913-449-1449</p></div>
LOCATION:Perry State Park\, 5441 West Lake Rd. Ozawkie\, Kansas 66070
CLASS:PUBLIC
END:VEVENT
END:VCALENDAR
