BEGIN:VCALENDAR
VERSION:2.0
PRODID:Kansas Department of Wildlife and Parks Calendar Creator
METHOD:PUBLISH
BEGIN:VEVENT
DTSTAMP:20260414T074432
DTSTART:20260912T080000
DTEND:20260912T130000
SUMMARY:Stomp Out Suicide
DESCRIPTION:<p>Stomp out Suicide is a walk to provide training and resources in our schools and community.&nbsp; All donations, entry fees etc. will be available to all schools within Miami County to assist with training for awareness of mental health challenges within the schools.</p><p>&nbsp;</p><p>Contact: Deb McQuay</p>
X-ALT-DESC;FMTTYPE=text/html:<p>Stomp out Suicide is a walk to provide training and resources in our schools and community.&nbsp; All donations, entry fees etc. will be available to all schools within Miami County to assist with training for awareness of mental health challenges within the schools.</p><p>&nbsp;</p><p>Contact: Deb McQuay</p>
LOCATION:Flint Hills Trail State Park\, 1400 South St. Osawatomie\, Kansas 66064
CLASS:PUBLIC
END:VEVENT
END:VCALENDAR
