BEGIN:VCALENDAR
VERSION:2.0
PRODID:Kansas Department of Wildlife and Parks Calendar Creator
METHOD:PUBLISH
BEGIN:VEVENT
DTSTAMP:20260414T074501
DTSTART:20260926T000000
DTEND:20260927T235900
SUMMARY:Ultrapalooza
DESCRIPTION:<p>Midwest Endurance brings you Ultrapalooza! It’s the flattest, awesome-est, running-est party in the Midwest! The trail crosses the beautiful Flint Hills. The Flint Hills represent one of the last remaining tallgrass prairie ecosystems in the world. The eastern portions of the route travels alongside the Marais Des Cygnes River, between rushing waters and towering bluffs, through rolling farmland and riparian woodlands. The Flint Hills Trail is the seventh-longest rail-trail in America, and the longest trail in Kansas. It follows the general route of the Santa Fe National Historic Trail and forms a component of the coast-to-coast American Discovery Trail. Cool, huh?</p><p><a href="https://ultrasignup.com/register.aspx?did=133730" target="_blank" rel="noopener">&nbsp;Please use this link for more details and to register for this fun event!</a></p>
X-ALT-DESC;FMTTYPE=text/html:<p>Midwest Endurance brings you Ultrapalooza! It’s the flattest, awesome-est, running-est party in the Midwest! The trail crosses the beautiful Flint Hills. The Flint Hills represent one of the last remaining tallgrass prairie ecosystems in the world. The eastern portions of the route travels alongside the Marais Des Cygnes River, between rushing waters and towering bluffs, through rolling farmland and riparian woodlands. The Flint Hills Trail is the seventh-longest rail-trail in America, and the longest trail in Kansas. It follows the general route of the Santa Fe National Historic Trail and forms a component of the coast-to-coast American Discovery Trail. Cool, huh?</p><p><a href="https://ultrasignup.com/register.aspx?did=133730" target="_blank" rel="noopener">&nbsp;Please use this link for more details and to register for this fun event!</a></p>
LOCATION:Flint Hills Trail State Park\, 1400 South St. Osawatomie\, Kansas 66064
CLASS:PUBLIC
END:VEVENT
END:VCALENDAR
