BEGIN:VCALENDAR
VERSION:2.0
PRODID:Kansas Department of Wildlife and Parks Calendar Creator
METHOD:PUBLISH
BEGIN:VEVENT
DTSTAMP:20260414T074210
DTSTART:20260911T160000
DTEND:20260913T120000
SUMMARY:Ottawa Bike and Trail's Moonrise Bike Ride
DESCRIPTION:Moonrise Bike Ride&nbsp;is a bikepacking, food, and music festival held along the Flint Hills Trail. The event features two ride options: a two-night&nbsp;Moonrise Campfire Ride&nbsp;starting in Council Grove on Friday, September 11, and a one-night&nbsp;Moonrise Main Event&nbsp;starting in Ottawa on Saturday, September 12. The Campfire Ride is limited and includes an overnight stay at Base Camp Flint Hills in Allen on the first night. The Main Event hosts approximately 250–300 riders. Both groups converge at Pomona Lake State Park on Saturday evening for music, food, and camping. On Sunday morning, riders enjoy breakfast before returning to Ottawa by bike.<a href="https://ottawabikeandtrail.com/pages/moonrise-bike-ride" target="_blank" rel="noopener"> For more details and to register, visit&nbsp;Ottawa Bike and Trail Bicycle Shop – Ottawa Bike and Trail, LLC</a>.
X-ALT-DESC;FMTTYPE=text/html:Moonrise Bike Ride&nbsp;is a bikepacking, food, and music festival held along the Flint Hills Trail. The event features two ride options: a two-night&nbsp;Moonrise Campfire Ride&nbsp;starting in Council Grove on Friday, September 11, and a one-night&nbsp;Moonrise Main Event&nbsp;starting in Ottawa on Saturday, September 12. The Campfire Ride is limited and includes an overnight stay at Base Camp Flint Hills in Allen on the first night. The Main Event hosts approximately 250–300 riders. Both groups converge at Pomona Lake State Park on Saturday evening for music, food, and camping. On Sunday morning, riders enjoy breakfast before returning to Ottawa by bike.<a href="https://ottawabikeandtrail.com/pages/moonrise-bike-ride" target="_blank" rel="noopener"> For more details and to register, visit&nbsp;Ottawa Bike and Trail Bicycle Shop – Ottawa Bike and Trail, LLC</a>.
LOCATION:Flint Hills Trail State Park\, 1400 South St. Osawatomie\, Kansas 66064
CLASS:PUBLIC
END:VEVENT
END:VCALENDAR
