BEGIN:VCALENDAR
VERSION:2.0
PRODID:Kansas Department of Wildlife and Parks Calendar Creator
METHOD:PUBLISH
BEGIN:VEVENT
DTSTAMP:20260414T085128
DTSTART:20260516T000000
DTEND:20260516T235900
SUMMARY:Free Park Entry Day-Milford State Park
DESCRIPTION:Secretary Kennedy has&nbsp;designated&nbsp;several park-specific Free Entrance Days that align with local events and programs designed to engage families, outdoor enthusiasts, and newcomers to Kansas state parks. &nbsp;Camping fees still apply.&nbsp;
X-ALT-DESC;FMTTYPE=text/html:Secretary Kennedy has&nbsp;designated&nbsp;several park-specific Free Entrance Days that align with local events and programs designed to engage families, outdoor enthusiasts, and newcomers to Kansas state parks. &nbsp;Camping fees still apply.&nbsp;
LOCATION:Milford State Park\, 3612 State Park Rd. Milford\, Kansas 66514
CLASS:PUBLIC
END:VEVENT
END:VCALENDAR
