BEGIN:VCALENDAR
VERSION:2.0
PRODID:Kansas Department of Wildlife and Parks Calendar Creator
METHOD:PUBLISH
BEGIN:VEVENT
DTSTAMP:20260414T085348
DTSTART:20260606T000000
DTEND:20260606T235900
SUMMARY:Free Park Entry Day-Prairie Dog State Park
DESCRIPTION:<p>Secretary Kennedy has&nbsp;designated&nbsp;several park-specific Free Entrance Days that align with local events and programs designed to engage families, outdoor enthusiasts, and newcomers to Kansas state parks. Camping fees still apply.&nbsp;</p>
X-ALT-DESC;FMTTYPE=text/html:<p>Secretary Kennedy has&nbsp;designated&nbsp;several park-specific Free Entrance Days that align with local events and programs designed to engage families, outdoor enthusiasts, and newcomers to Kansas state parks. Camping fees still apply.&nbsp;</p>
LOCATION:Prairie Dog State Park\, 13037 State Highway 261 Norton\, Kansas 67654
CLASS:PUBLIC
END:VEVENT
END:VCALENDAR
